BEGIN:VCALENDAR
VERSION:2.0
PRODID:-//Get Your Fun On Webshop - ECPv6.15.20//NONSGML v1.0//EN
CALSCALE:GREGORIAN
METHOD:PUBLISH
X-WR-CALNAME:Get Your Fun On Webshop
X-ORIGINAL-URL:https://getyourfunon.com/shop
X-WR-CALDESC:Events for Get Your Fun On Webshop
REFRESH-INTERVAL;VALUE=DURATION:PT1H
X-Robots-Tag:noindex
X-PUBLISHED-TTL:PT1H
BEGIN:VTIMEZONE
TZID:America/New_York
BEGIN:DAYLIGHT
TZOFFSETFROM:-0500
TZOFFSETTO:-0400
TZNAME:EDT
DTSTART:20250309T070000
END:DAYLIGHT
BEGIN:STANDARD
TZOFFSETFROM:-0400
TZOFFSETTO:-0500
TZNAME:EST
DTSTART:20251102T060000
END:STANDARD
BEGIN:DAYLIGHT
TZOFFSETFROM:-0500
TZOFFSETTO:-0400
TZNAME:EDT
DTSTART:20260308T070000
END:DAYLIGHT
BEGIN:STANDARD
TZOFFSETFROM:-0400
TZOFFSETTO:-0500
TZNAME:EST
DTSTART:20261101T060000
END:STANDARD
BEGIN:DAYLIGHT
TZOFFSETFROM:-0500
TZOFFSETTO:-0400
TZNAME:EDT
DTSTART:20270314T070000
END:DAYLIGHT
BEGIN:STANDARD
TZOFFSETFROM:-0400
TZOFFSETTO:-0500
TZNAME:EST
DTSTART:20271107T060000
END:STANDARD
END:VTIMEZONE
BEGIN:VEVENT
DTSTART;TZID=America/New_York:20260410T184500
DTEND;TZID=America/New_York:20260410T230000
DTSTAMP:20260424T043346
CREATED:20250803T185924Z
LAST-MODIFIED:20250803T231330Z
UID:10000036-1775846700-1775862000@getyourfunon.com
SUMMARY:MtG Friday Night Magic Draft
DESCRIPTION:Join us every Friday evening for official Magic the Gathering FNM Draft. (Occasional Sealed or Constructed for special events). \nEvent starts at 7pm.  Please join us in time to be paid and registered by 7pm.  Magic Companion App required.  Regardless of player count we run 3 cross pod rounds. Draft is 3 packs.  Everyone gets a pack for round 1 play.  You will win an additional pack for winning each round 2 and 3.  So at a minimum you will get 4 packs worth of cards. Up to 6 packs.  Entry price varies depending on set pricing from distribution.  Please stop by or call the shop for full details.
URL:https://getyourfunon.com/shop/event/mtg-friday-night-magic-draft/2026-04-10/
LOCATION:Get Your Fun On\, 3040 W New Haven Ave.\, Melbourne\, FL\, 32904\, United States
CATEGORIES:Magic the Gathering Events,Magic the Gathering Tournaments
ATTACH;FMTTYPE=image/jpeg:https://getyourfunon.com/shop/wp-content/uploads/2025/08/1-10.jpg
END:VEVENT
END:VCALENDAR