BEGIN:VCALENDAR
VERSION:2.0
PRODID:-//Get Your Fun On Webshop - ECPv6.15.20//NONSGML v1.0//EN
CALSCALE:GREGORIAN
METHOD:PUBLISH
X-ORIGINAL-URL:https://getyourfunon.com/shop
X-WR-CALDESC:Events for Get Your Fun On Webshop
REFRESH-INTERVAL;VALUE=DURATION:PT1H
X-Robots-Tag:noindex
X-PUBLISHED-TTL:PT1H
BEGIN:VTIMEZONE
TZID:America/New_York
BEGIN:DAYLIGHT
TZOFFSETFROM:-0500
TZOFFSETTO:-0400
TZNAME:EDT
DTSTART:20250309T070000
END:DAYLIGHT
BEGIN:STANDARD
TZOFFSETFROM:-0400
TZOFFSETTO:-0500
TZNAME:EST
DTSTART:20251102T060000
END:STANDARD
BEGIN:DAYLIGHT
TZOFFSETFROM:-0500
TZOFFSETTO:-0400
TZNAME:EDT
DTSTART:20260308T070000
END:DAYLIGHT
BEGIN:STANDARD
TZOFFSETFROM:-0400
TZOFFSETTO:-0500
TZNAME:EST
DTSTART:20261101T060000
END:STANDARD
BEGIN:DAYLIGHT
TZOFFSETFROM:-0500
TZOFFSETTO:-0400
TZNAME:EDT
DTSTART:20270314T070000
END:DAYLIGHT
BEGIN:STANDARD
TZOFFSETFROM:-0400
TZOFFSETTO:-0500
TZNAME:EST
DTSTART:20271107T060000
END:STANDARD
END:VTIMEZONE
BEGIN:VEVENT
DTSTART;TZID=America/New_York:20260703T170000
DTEND;TZID=America/New_York:20260703T190000
DTSTAMP:20260424T004757
CREATED:20250803T191544Z
LAST-MODIFIED:20250803T192401Z
UID:10000310-1783098000-1783105200@getyourfunon.com
SUMMARY:Pokemon League Meetup
DESCRIPTION:Join us for Pokemon League Meetup\, every Friday from 5pm to 7pm.  This is a free event for casual play and trading.  All ages welcome.  Registered league players receive a participation promo.
URL:https://getyourfunon.com/shop/event/pokemon-league-meetup/2026-07-03/
LOCATION:Get Your Fun On\, 3040 W New Haven Ave.\, Melbourne\, FL\, 32904\, United States
CATEGORIES:Pokemon Casual,Pokemon Events
ATTACH;FMTTYPE=image/jpeg:https://getyourfunon.com/shop/wp-content/uploads/2025/08/1.1.jpg
END:VEVENT
BEGIN:VEVENT
DTSTART;TZID=America/New_York:20260710T170000
DTEND;TZID=America/New_York:20260710T190000
DTSTAMP:20260424T004757
CREATED:20250803T191544Z
LAST-MODIFIED:20250803T192401Z
UID:10000311-1783702800-1783710000@getyourfunon.com
SUMMARY:Pokemon League Meetup
DESCRIPTION:Join us for Pokemon League Meetup\, every Friday from 5pm to 7pm.  This is a free event for casual play and trading.  All ages welcome.  Registered league players receive a participation promo.
URL:https://getyourfunon.com/shop/event/pokemon-league-meetup/2026-07-10/
LOCATION:Get Your Fun On\, 3040 W New Haven Ave.\, Melbourne\, FL\, 32904\, United States
CATEGORIES:Pokemon Casual,Pokemon Events
ATTACH;FMTTYPE=image/jpeg:https://getyourfunon.com/shop/wp-content/uploads/2025/08/1.1.jpg
END:VEVENT
BEGIN:VEVENT
DTSTART;TZID=America/New_York:20260717T170000
DTEND;TZID=America/New_York:20260717T190000
DTSTAMP:20260424T004757
CREATED:20250803T191544Z
LAST-MODIFIED:20250803T192401Z
UID:10000312-1784307600-1784314800@getyourfunon.com
SUMMARY:Pokemon League Meetup
DESCRIPTION:Join us for Pokemon League Meetup\, every Friday from 5pm to 7pm.  This is a free event for casual play and trading.  All ages welcome.  Registered league players receive a participation promo.
URL:https://getyourfunon.com/shop/event/pokemon-league-meetup/2026-07-17/
LOCATION:Get Your Fun On\, 3040 W New Haven Ave.\, Melbourne\, FL\, 32904\, United States
CATEGORIES:Pokemon Casual,Pokemon Events
ATTACH;FMTTYPE=image/jpeg:https://getyourfunon.com/shop/wp-content/uploads/2025/08/1.1.jpg
END:VEVENT
BEGIN:VEVENT
DTSTART;TZID=America/New_York:20260724T170000
DTEND;TZID=America/New_York:20260724T190000
DTSTAMP:20260424T004757
CREATED:20250803T191544Z
LAST-MODIFIED:20250803T192401Z
UID:10000313-1784912400-1784919600@getyourfunon.com
SUMMARY:Pokemon League Meetup
DESCRIPTION:Join us for Pokemon League Meetup\, every Friday from 5pm to 7pm.  This is a free event for casual play and trading.  All ages welcome.  Registered league players receive a participation promo.
URL:https://getyourfunon.com/shop/event/pokemon-league-meetup/2026-07-24/
LOCATION:Get Your Fun On\, 3040 W New Haven Ave.\, Melbourne\, FL\, 32904\, United States
CATEGORIES:Pokemon Casual,Pokemon Events
ATTACH;FMTTYPE=image/jpeg:https://getyourfunon.com/shop/wp-content/uploads/2025/08/1.1.jpg
END:VEVENT
BEGIN:VEVENT
DTSTART;TZID=America/New_York:20260731T170000
DTEND;TZID=America/New_York:20260731T190000
DTSTAMP:20260424T004757
CREATED:20250803T191544Z
LAST-MODIFIED:20250803T192401Z
UID:10000314-1785517200-1785524400@getyourfunon.com
SUMMARY:Pokemon League Meetup
DESCRIPTION:Join us for Pokemon League Meetup\, every Friday from 5pm to 7pm.  This is a free event for casual play and trading.  All ages welcome.  Registered league players receive a participation promo.
URL:https://getyourfunon.com/shop/event/pokemon-league-meetup/2026-07-31/
LOCATION:Get Your Fun On\, 3040 W New Haven Ave.\, Melbourne\, FL\, 32904\, United States
CATEGORIES:Pokemon Casual,Pokemon Events
ATTACH;FMTTYPE=image/jpeg:https://getyourfunon.com/shop/wp-content/uploads/2025/08/1.1.jpg
END:VEVENT
END:VCALENDAR