BEGIN:VCALENDAR
VERSION:2.0
PRODID:-//Get Your Fun On Webshop - ECPv6.15.20//NONSGML v1.0//EN
CALSCALE:GREGORIAN
METHOD:PUBLISH
X-ORIGINAL-URL:https://getyourfunon.com/shop
X-WR-CALDESC:Events for Get Your Fun On Webshop
REFRESH-INTERVAL;VALUE=DURATION:PT1H
X-Robots-Tag:noindex
X-PUBLISHED-TTL:PT1H
BEGIN:VTIMEZONE
TZID:America/New_York
BEGIN:DAYLIGHT
TZOFFSETFROM:-0500
TZOFFSETTO:-0400
TZNAME:EDT
DTSTART:20260308T070000
END:DAYLIGHT
BEGIN:STANDARD
TZOFFSETFROM:-0400
TZOFFSETTO:-0500
TZNAME:EST
DTSTART:20261101T060000
END:STANDARD
BEGIN:DAYLIGHT
TZOFFSETFROM:-0500
TZOFFSETTO:-0400
TZNAME:EDT
DTSTART:20270314T070000
END:DAYLIGHT
BEGIN:STANDARD
TZOFFSETFROM:-0400
TZOFFSETTO:-0500
TZNAME:EST
DTSTART:20271107T060000
END:STANDARD
BEGIN:DAYLIGHT
TZOFFSETFROM:-0500
TZOFFSETTO:-0400
TZNAME:EDT
DTSTART:20280312T070000
END:DAYLIGHT
BEGIN:STANDARD
TZOFFSETFROM:-0400
TZOFFSETTO:-0500
TZNAME:EST
DTSTART:20281105T060000
END:STANDARD
BEGIN:DAYLIGHT
TZOFFSETFROM:-0500
TZOFFSETTO:-0400
TZNAME:EDT
DTSTART:20290311T070000
END:DAYLIGHT
BEGIN:STANDARD
TZOFFSETFROM:-0400
TZOFFSETTO:-0500
TZNAME:EST
DTSTART:20291104T060000
END:STANDARD
END:VTIMEZONE
BEGIN:VEVENT
DTSTART;TZID=America/New_York:20270618T170000
DTEND;TZID=America/New_York:20270618T190000
DTSTAMP:20260424T043520
CREATED:20250803T191544Z
LAST-MODIFIED:20250803T192401Z
UID:10000360-1813338000-1813345200@getyourfunon.com
SUMMARY:Pokemon League Meetup
DESCRIPTION:Join us for Pokemon League Meetup\, every Friday from 5pm to 7pm.  This is a free event for casual play and trading.  All ages welcome.  Registered league players receive a participation promo.
URL:https://getyourfunon.com/shop/event/pokemon-league-meetup/2027-06-18/
LOCATION:Get Your Fun On\, 3040 W New Haven Ave.\, Melbourne\, FL\, 32904\, United States
CATEGORIES:Pokemon Casual,Pokemon Events
ATTACH;FMTTYPE=image/jpeg:https://getyourfunon.com/shop/wp-content/uploads/2025/08/1.1.jpg
END:VEVENT
BEGIN:VEVENT
DTSTART;TZID=America/New_York:20270625T170000
DTEND;TZID=America/New_York:20270625T190000
DTSTAMP:20260424T043520
CREATED:20250803T191544Z
LAST-MODIFIED:20250803T192401Z
UID:10000361-1813942800-1813950000@getyourfunon.com
SUMMARY:Pokemon League Meetup
DESCRIPTION:Join us for Pokemon League Meetup\, every Friday from 5pm to 7pm.  This is a free event for casual play and trading.  All ages welcome.  Registered league players receive a participation promo.
URL:https://getyourfunon.com/shop/event/pokemon-league-meetup/2027-06-25/
LOCATION:Get Your Fun On\, 3040 W New Haven Ave.\, Melbourne\, FL\, 32904\, United States
CATEGORIES:Pokemon Casual,Pokemon Events
ATTACH;FMTTYPE=image/jpeg:https://getyourfunon.com/shop/wp-content/uploads/2025/08/1.1.jpg
END:VEVENT
BEGIN:VEVENT
DTSTART;TZID=America/New_York:20270702T170000
DTEND;TZID=America/New_York:20270702T190000
DTSTAMP:20260424T043520
CREATED:20250803T191544Z
LAST-MODIFIED:20250803T192401Z
UID:10000362-1814547600-1814554800@getyourfunon.com
SUMMARY:Pokemon League Meetup
DESCRIPTION:Join us for Pokemon League Meetup\, every Friday from 5pm to 7pm.  This is a free event for casual play and trading.  All ages welcome.  Registered league players receive a participation promo.
URL:https://getyourfunon.com/shop/event/pokemon-league-meetup/2027-07-02/
LOCATION:Get Your Fun On\, 3040 W New Haven Ave.\, Melbourne\, FL\, 32904\, United States
CATEGORIES:Pokemon Casual,Pokemon Events
ATTACH;FMTTYPE=image/jpeg:https://getyourfunon.com/shop/wp-content/uploads/2025/08/1.1.jpg
END:VEVENT
BEGIN:VEVENT
DTSTART;TZID=America/New_York:20270709T170000
DTEND;TZID=America/New_York:20270709T190000
DTSTAMP:20260424T043520
CREATED:20250803T191544Z
LAST-MODIFIED:20250803T192401Z
UID:10000363-1815152400-1815159600@getyourfunon.com
SUMMARY:Pokemon League Meetup
DESCRIPTION:Join us for Pokemon League Meetup\, every Friday from 5pm to 7pm.  This is a free event for casual play and trading.  All ages welcome.  Registered league players receive a participation promo.
URL:https://getyourfunon.com/shop/event/pokemon-league-meetup/2027-07-09/
LOCATION:Get Your Fun On\, 3040 W New Haven Ave.\, Melbourne\, FL\, 32904\, United States
CATEGORIES:Pokemon Casual,Pokemon Events
ATTACH;FMTTYPE=image/jpeg:https://getyourfunon.com/shop/wp-content/uploads/2025/08/1.1.jpg
END:VEVENT
BEGIN:VEVENT
DTSTART;TZID=America/New_York:20270716T170000
DTEND;TZID=America/New_York:20270716T190000
DTSTAMP:20260424T043520
CREATED:20250803T191544Z
LAST-MODIFIED:20250803T192401Z
UID:10000364-1815757200-1815764400@getyourfunon.com
SUMMARY:Pokemon League Meetup
DESCRIPTION:Join us for Pokemon League Meetup\, every Friday from 5pm to 7pm.  This is a free event for casual play and trading.  All ages welcome.  Registered league players receive a participation promo.
URL:https://getyourfunon.com/shop/event/pokemon-league-meetup/2027-07-16/
LOCATION:Get Your Fun On\, 3040 W New Haven Ave.\, Melbourne\, FL\, 32904\, United States
CATEGORIES:Pokemon Casual,Pokemon Events
ATTACH;FMTTYPE=image/jpeg:https://getyourfunon.com/shop/wp-content/uploads/2025/08/1.1.jpg
END:VEVENT
BEGIN:VEVENT
DTSTART;TZID=America/New_York:20270723T170000
DTEND;TZID=America/New_York:20270723T190000
DTSTAMP:20260424T043520
CREATED:20250803T191544Z
LAST-MODIFIED:20250803T192401Z
UID:10000365-1816362000-1816369200@getyourfunon.com
SUMMARY:Pokemon League Meetup
DESCRIPTION:Join us for Pokemon League Meetup\, every Friday from 5pm to 7pm.  This is a free event for casual play and trading.  All ages welcome.  Registered league players receive a participation promo.
URL:https://getyourfunon.com/shop/event/pokemon-league-meetup/2027-07-23/
LOCATION:Get Your Fun On\, 3040 W New Haven Ave.\, Melbourne\, FL\, 32904\, United States
CATEGORIES:Pokemon Casual,Pokemon Events
ATTACH;FMTTYPE=image/jpeg:https://getyourfunon.com/shop/wp-content/uploads/2025/08/1.1.jpg
END:VEVENT
BEGIN:VEVENT
DTSTART;TZID=America/New_York:20270730T170000
DTEND;TZID=America/New_York:20270730T190000
DTSTAMP:20260424T043521
CREATED:20250803T191544Z
LAST-MODIFIED:20250803T192401Z
UID:10000366-1816966800-1816974000@getyourfunon.com
SUMMARY:Pokemon League Meetup
DESCRIPTION:Join us for Pokemon League Meetup\, every Friday from 5pm to 7pm.  This is a free event for casual play and trading.  All ages welcome.  Registered league players receive a participation promo.
URL:https://getyourfunon.com/shop/event/pokemon-league-meetup/2027-07-30/
LOCATION:Get Your Fun On\, 3040 W New Haven Ave.\, Melbourne\, FL\, 32904\, United States
CATEGORIES:Pokemon Casual,Pokemon Events
ATTACH;FMTTYPE=image/jpeg:https://getyourfunon.com/shop/wp-content/uploads/2025/08/1.1.jpg
END:VEVENT
BEGIN:VEVENT
DTSTART;TZID=America/New_York:20270806T170000
DTEND;TZID=America/New_York:20270806T190000
DTSTAMP:20260424T043521
CREATED:20250803T191544Z
LAST-MODIFIED:20250803T192401Z
UID:10000367-1817571600-1817578800@getyourfunon.com
SUMMARY:Pokemon League Meetup
DESCRIPTION:Join us for Pokemon League Meetup\, every Friday from 5pm to 7pm.  This is a free event for casual play and trading.  All ages welcome.  Registered league players receive a participation promo.
URL:https://getyourfunon.com/shop/event/pokemon-league-meetup/2027-08-06/
LOCATION:Get Your Fun On\, 3040 W New Haven Ave.\, Melbourne\, FL\, 32904\, United States
CATEGORIES:Pokemon Casual,Pokemon Events
ATTACH;FMTTYPE=image/jpeg:https://getyourfunon.com/shop/wp-content/uploads/2025/08/1.1.jpg
END:VEVENT
BEGIN:VEVENT
DTSTART;TZID=America/New_York:20270813T170000
DTEND;TZID=America/New_York:20270813T190000
DTSTAMP:20260424T043521
CREATED:20250803T191544Z
LAST-MODIFIED:20250803T192401Z
UID:10000368-1818176400-1818183600@getyourfunon.com
SUMMARY:Pokemon League Meetup
DESCRIPTION:Join us for Pokemon League Meetup\, every Friday from 5pm to 7pm.  This is a free event for casual play and trading.  All ages welcome.  Registered league players receive a participation promo.
URL:https://getyourfunon.com/shop/event/pokemon-league-meetup/2027-08-13/
LOCATION:Get Your Fun On\, 3040 W New Haven Ave.\, Melbourne\, FL\, 32904\, United States
CATEGORIES:Pokemon Casual,Pokemon Events
ATTACH;FMTTYPE=image/jpeg:https://getyourfunon.com/shop/wp-content/uploads/2025/08/1.1.jpg
END:VEVENT
BEGIN:VEVENT
DTSTART;TZID=America/New_York:20270820T170000
DTEND;TZID=America/New_York:20270820T190000
DTSTAMP:20260424T043521
CREATED:20250803T191544Z
LAST-MODIFIED:20250803T192401Z
UID:10000369-1818781200-1818788400@getyourfunon.com
SUMMARY:Pokemon League Meetup
DESCRIPTION:Join us for Pokemon League Meetup\, every Friday from 5pm to 7pm.  This is a free event for casual play and trading.  All ages welcome.  Registered league players receive a participation promo.
URL:https://getyourfunon.com/shop/event/pokemon-league-meetup/2027-08-20/
LOCATION:Get Your Fun On\, 3040 W New Haven Ave.\, Melbourne\, FL\, 32904\, United States
CATEGORIES:Pokemon Casual,Pokemon Events
ATTACH;FMTTYPE=image/jpeg:https://getyourfunon.com/shop/wp-content/uploads/2025/08/1.1.jpg
END:VEVENT
BEGIN:VEVENT
DTSTART;TZID=America/New_York:20270827T170000
DTEND;TZID=America/New_York:20270827T190000
DTSTAMP:20260424T043521
CREATED:20250803T191544Z
LAST-MODIFIED:20250803T192401Z
UID:10000370-1819386000-1819393200@getyourfunon.com
SUMMARY:Pokemon League Meetup
DESCRIPTION:Join us for Pokemon League Meetup\, every Friday from 5pm to 7pm.  This is a free event for casual play and trading.  All ages welcome.  Registered league players receive a participation promo.
URL:https://getyourfunon.com/shop/event/pokemon-league-meetup/2027-08-27/
LOCATION:Get Your Fun On\, 3040 W New Haven Ave.\, Melbourne\, FL\, 32904\, United States
CATEGORIES:Pokemon Casual,Pokemon Events
ATTACH;FMTTYPE=image/jpeg:https://getyourfunon.com/shop/wp-content/uploads/2025/08/1.1.jpg
END:VEVENT
BEGIN:VEVENT
DTSTART;TZID=America/New_York:20270903T170000
DTEND;TZID=America/New_York:20270903T190000
DTSTAMP:20260424T043521
CREATED:20250803T191544Z
LAST-MODIFIED:20250803T192401Z
UID:10000371-1819990800-1819998000@getyourfunon.com
SUMMARY:Pokemon League Meetup
DESCRIPTION:Join us for Pokemon League Meetup\, every Friday from 5pm to 7pm.  This is a free event for casual play and trading.  All ages welcome.  Registered league players receive a participation promo.
URL:https://getyourfunon.com/shop/event/pokemon-league-meetup/2027-09-03/
LOCATION:Get Your Fun On\, 3040 W New Haven Ave.\, Melbourne\, FL\, 32904\, United States
CATEGORIES:Pokemon Casual,Pokemon Events
ATTACH;FMTTYPE=image/jpeg:https://getyourfunon.com/shop/wp-content/uploads/2025/08/1.1.jpg
END:VEVENT
BEGIN:VEVENT
DTSTART;TZID=America/New_York:20270910T170000
DTEND;TZID=America/New_York:20270910T190000
DTSTAMP:20260424T043521
CREATED:20250803T191544Z
LAST-MODIFIED:20250803T192401Z
UID:10000372-1820595600-1820602800@getyourfunon.com
SUMMARY:Pokemon League Meetup
DESCRIPTION:Join us for Pokemon League Meetup\, every Friday from 5pm to 7pm.  This is a free event for casual play and trading.  All ages welcome.  Registered league players receive a participation promo.
URL:https://getyourfunon.com/shop/event/pokemon-league-meetup/2027-09-10/
LOCATION:Get Your Fun On\, 3040 W New Haven Ave.\, Melbourne\, FL\, 32904\, United States
CATEGORIES:Pokemon Casual,Pokemon Events
ATTACH;FMTTYPE=image/jpeg:https://getyourfunon.com/shop/wp-content/uploads/2025/08/1.1.jpg
END:VEVENT
BEGIN:VEVENT
DTSTART;TZID=America/New_York:20270917T170000
DTEND;TZID=America/New_York:20270917T190000
DTSTAMP:20260424T043521
CREATED:20250803T191544Z
LAST-MODIFIED:20250803T192401Z
UID:10000373-1821200400-1821207600@getyourfunon.com
SUMMARY:Pokemon League Meetup
DESCRIPTION:Join us for Pokemon League Meetup\, every Friday from 5pm to 7pm.  This is a free event for casual play and trading.  All ages welcome.  Registered league players receive a participation promo.
URL:https://getyourfunon.com/shop/event/pokemon-league-meetup/2027-09-17/
LOCATION:Get Your Fun On\, 3040 W New Haven Ave.\, Melbourne\, FL\, 32904\, United States
CATEGORIES:Pokemon Casual,Pokemon Events
ATTACH;FMTTYPE=image/jpeg:https://getyourfunon.com/shop/wp-content/uploads/2025/08/1.1.jpg
END:VEVENT
BEGIN:VEVENT
DTSTART;TZID=America/New_York:20270924T170000
DTEND;TZID=America/New_York:20270924T190000
DTSTAMP:20260424T043521
CREATED:20250803T191544Z
LAST-MODIFIED:20250803T192401Z
UID:10000374-1821805200-1821812400@getyourfunon.com
SUMMARY:Pokemon League Meetup
DESCRIPTION:Join us for Pokemon League Meetup\, every Friday from 5pm to 7pm.  This is a free event for casual play and trading.  All ages welcome.  Registered league players receive a participation promo.
URL:https://getyourfunon.com/shop/event/pokemon-league-meetup/2027-09-24/
LOCATION:Get Your Fun On\, 3040 W New Haven Ave.\, Melbourne\, FL\, 32904\, United States
CATEGORIES:Pokemon Casual,Pokemon Events
ATTACH;FMTTYPE=image/jpeg:https://getyourfunon.com/shop/wp-content/uploads/2025/08/1.1.jpg
END:VEVENT
BEGIN:VEVENT
DTSTART;TZID=America/New_York:20271001T170000
DTEND;TZID=America/New_York:20271001T190000
DTSTAMP:20260424T043521
CREATED:20250803T191544Z
LAST-MODIFIED:20250803T192401Z
UID:10000375-1822410000-1822417200@getyourfunon.com
SUMMARY:Pokemon League Meetup
DESCRIPTION:Join us for Pokemon League Meetup\, every Friday from 5pm to 7pm.  This is a free event for casual play and trading.  All ages welcome.  Registered league players receive a participation promo.
URL:https://getyourfunon.com/shop/event/pokemon-league-meetup/2027-10-01/
LOCATION:Get Your Fun On\, 3040 W New Haven Ave.\, Melbourne\, FL\, 32904\, United States
CATEGORIES:Pokemon Casual,Pokemon Events
ATTACH;FMTTYPE=image/jpeg:https://getyourfunon.com/shop/wp-content/uploads/2025/08/1.1.jpg
END:VEVENT
BEGIN:VEVENT
DTSTART;TZID=America/New_York:20271008T170000
DTEND;TZID=America/New_York:20271008T190000
DTSTAMP:20260424T043521
CREATED:20250803T191544Z
LAST-MODIFIED:20250803T192401Z
UID:10000376-1823014800-1823022000@getyourfunon.com
SUMMARY:Pokemon League Meetup
DESCRIPTION:Join us for Pokemon League Meetup\, every Friday from 5pm to 7pm.  This is a free event for casual play and trading.  All ages welcome.  Registered league players receive a participation promo.
URL:https://getyourfunon.com/shop/event/pokemon-league-meetup/2027-10-08/
LOCATION:Get Your Fun On\, 3040 W New Haven Ave.\, Melbourne\, FL\, 32904\, United States
CATEGORIES:Pokemon Casual,Pokemon Events
ATTACH;FMTTYPE=image/jpeg:https://getyourfunon.com/shop/wp-content/uploads/2025/08/1.1.jpg
END:VEVENT
BEGIN:VEVENT
DTSTART;TZID=America/New_York:20271015T170000
DTEND;TZID=America/New_York:20271015T190000
DTSTAMP:20260424T043521
CREATED:20250803T191544Z
LAST-MODIFIED:20250803T192401Z
UID:10000377-1823619600-1823626800@getyourfunon.com
SUMMARY:Pokemon League Meetup
DESCRIPTION:Join us for Pokemon League Meetup\, every Friday from 5pm to 7pm.  This is a free event for casual play and trading.  All ages welcome.  Registered league players receive a participation promo.
URL:https://getyourfunon.com/shop/event/pokemon-league-meetup/2027-10-15/
LOCATION:Get Your Fun On\, 3040 W New Haven Ave.\, Melbourne\, FL\, 32904\, United States
CATEGORIES:Pokemon Casual,Pokemon Events
ATTACH;FMTTYPE=image/jpeg:https://getyourfunon.com/shop/wp-content/uploads/2025/08/1.1.jpg
END:VEVENT
BEGIN:VEVENT
DTSTART;TZID=America/New_York:20271022T170000
DTEND;TZID=America/New_York:20271022T190000
DTSTAMP:20260424T043521
CREATED:20250803T191544Z
LAST-MODIFIED:20250803T192401Z
UID:10000378-1824224400-1824231600@getyourfunon.com
SUMMARY:Pokemon League Meetup
DESCRIPTION:Join us for Pokemon League Meetup\, every Friday from 5pm to 7pm.  This is a free event for casual play and trading.  All ages welcome.  Registered league players receive a participation promo.
URL:https://getyourfunon.com/shop/event/pokemon-league-meetup/2027-10-22/
LOCATION:Get Your Fun On\, 3040 W New Haven Ave.\, Melbourne\, FL\, 32904\, United States
CATEGORIES:Pokemon Casual,Pokemon Events
ATTACH;FMTTYPE=image/jpeg:https://getyourfunon.com/shop/wp-content/uploads/2025/08/1.1.jpg
END:VEVENT
BEGIN:VEVENT
DTSTART;TZID=America/New_York:20271029T170000
DTEND;TZID=America/New_York:20271029T190000
DTSTAMP:20260424T043521
CREATED:20250803T191544Z
LAST-MODIFIED:20250803T192401Z
UID:10000379-1824829200-1824836400@getyourfunon.com
SUMMARY:Pokemon League Meetup
DESCRIPTION:Join us for Pokemon League Meetup\, every Friday from 5pm to 7pm.  This is a free event for casual play and trading.  All ages welcome.  Registered league players receive a participation promo.
URL:https://getyourfunon.com/shop/event/pokemon-league-meetup/2027-10-29/
LOCATION:Get Your Fun On\, 3040 W New Haven Ave.\, Melbourne\, FL\, 32904\, United States
CATEGORIES:Pokemon Casual,Pokemon Events
ATTACH;FMTTYPE=image/jpeg:https://getyourfunon.com/shop/wp-content/uploads/2025/08/1.1.jpg
END:VEVENT
BEGIN:VEVENT
DTSTART;TZID=America/New_York:20271105T170000
DTEND;TZID=America/New_York:20271105T190000
DTSTAMP:20260424T043521
CREATED:20250803T191544Z
LAST-MODIFIED:20250803T192401Z
UID:10000380-1825434000-1825441200@getyourfunon.com
SUMMARY:Pokemon League Meetup
DESCRIPTION:Join us for Pokemon League Meetup\, every Friday from 5pm to 7pm.  This is a free event for casual play and trading.  All ages welcome.  Registered league players receive a participation promo.
URL:https://getyourfunon.com/shop/event/pokemon-league-meetup/2027-11-05/
LOCATION:Get Your Fun On\, 3040 W New Haven Ave.\, Melbourne\, FL\, 32904\, United States
CATEGORIES:Pokemon Casual,Pokemon Events
ATTACH;FMTTYPE=image/jpeg:https://getyourfunon.com/shop/wp-content/uploads/2025/08/1.1.jpg
END:VEVENT
BEGIN:VEVENT
DTSTART;TZID=America/New_York:20271112T170000
DTEND;TZID=America/New_York:20271112T190000
DTSTAMP:20260424T043521
CREATED:20250803T191544Z
LAST-MODIFIED:20250803T192401Z
UID:10000381-1826038800-1826046000@getyourfunon.com
SUMMARY:Pokemon League Meetup
DESCRIPTION:Join us for Pokemon League Meetup\, every Friday from 5pm to 7pm.  This is a free event for casual play and trading.  All ages welcome.  Registered league players receive a participation promo.
URL:https://getyourfunon.com/shop/event/pokemon-league-meetup/2027-11-12/
LOCATION:Get Your Fun On\, 3040 W New Haven Ave.\, Melbourne\, FL\, 32904\, United States
CATEGORIES:Pokemon Casual,Pokemon Events
ATTACH;FMTTYPE=image/jpeg:https://getyourfunon.com/shop/wp-content/uploads/2025/08/1.1.jpg
END:VEVENT
BEGIN:VEVENT
DTSTART;TZID=America/New_York:20271119T170000
DTEND;TZID=America/New_York:20271119T190000
DTSTAMP:20260424T043521
CREATED:20250803T191544Z
LAST-MODIFIED:20250803T192401Z
UID:10000382-1826643600-1826650800@getyourfunon.com
SUMMARY:Pokemon League Meetup
DESCRIPTION:Join us for Pokemon League Meetup\, every Friday from 5pm to 7pm.  This is a free event for casual play and trading.  All ages welcome.  Registered league players receive a participation promo.
URL:https://getyourfunon.com/shop/event/pokemon-league-meetup/2027-11-19/
LOCATION:Get Your Fun On\, 3040 W New Haven Ave.\, Melbourne\, FL\, 32904\, United States
CATEGORIES:Pokemon Casual,Pokemon Events
ATTACH;FMTTYPE=image/jpeg:https://getyourfunon.com/shop/wp-content/uploads/2025/08/1.1.jpg
END:VEVENT
BEGIN:VEVENT
DTSTART;TZID=America/New_York:20271126T170000
DTEND;TZID=America/New_York:20271126T190000
DTSTAMP:20260424T043521
CREATED:20250803T191544Z
LAST-MODIFIED:20250803T192401Z
UID:10000383-1827248400-1827255600@getyourfunon.com
SUMMARY:Pokemon League Meetup
DESCRIPTION:Join us for Pokemon League Meetup\, every Friday from 5pm to 7pm.  This is a free event for casual play and trading.  All ages welcome.  Registered league players receive a participation promo.
URL:https://getyourfunon.com/shop/event/pokemon-league-meetup/2027-11-26/
LOCATION:Get Your Fun On\, 3040 W New Haven Ave.\, Melbourne\, FL\, 32904\, United States
CATEGORIES:Pokemon Casual,Pokemon Events
ATTACH;FMTTYPE=image/jpeg:https://getyourfunon.com/shop/wp-content/uploads/2025/08/1.1.jpg
END:VEVENT
BEGIN:VEVENT
DTSTART;TZID=America/New_York:20271203T170000
DTEND;TZID=America/New_York:20271203T190000
DTSTAMP:20260424T043521
CREATED:20250803T191544Z
LAST-MODIFIED:20250803T192401Z
UID:10000384-1827853200-1827860400@getyourfunon.com
SUMMARY:Pokemon League Meetup
DESCRIPTION:Join us for Pokemon League Meetup\, every Friday from 5pm to 7pm.  This is a free event for casual play and trading.  All ages welcome.  Registered league players receive a participation promo.
URL:https://getyourfunon.com/shop/event/pokemon-league-meetup/2027-12-03/
LOCATION:Get Your Fun On\, 3040 W New Haven Ave.\, Melbourne\, FL\, 32904\, United States
CATEGORIES:Pokemon Casual,Pokemon Events
ATTACH;FMTTYPE=image/jpeg:https://getyourfunon.com/shop/wp-content/uploads/2025/08/1.1.jpg
END:VEVENT
BEGIN:VEVENT
DTSTART;TZID=America/New_York:20271210T170000
DTEND;TZID=America/New_York:20271210T190000
DTSTAMP:20260424T043521
CREATED:20250803T191544Z
LAST-MODIFIED:20250803T192401Z
UID:10000385-1828458000-1828465200@getyourfunon.com
SUMMARY:Pokemon League Meetup
DESCRIPTION:Join us for Pokemon League Meetup\, every Friday from 5pm to 7pm.  This is a free event for casual play and trading.  All ages welcome.  Registered league players receive a participation promo.
URL:https://getyourfunon.com/shop/event/pokemon-league-meetup/2027-12-10/
LOCATION:Get Your Fun On\, 3040 W New Haven Ave.\, Melbourne\, FL\, 32904\, United States
CATEGORIES:Pokemon Casual,Pokemon Events
ATTACH;FMTTYPE=image/jpeg:https://getyourfunon.com/shop/wp-content/uploads/2025/08/1.1.jpg
END:VEVENT
BEGIN:VEVENT
DTSTART;TZID=America/New_York:20271217T170000
DTEND;TZID=America/New_York:20271217T190000
DTSTAMP:20260424T043521
CREATED:20250803T191544Z
LAST-MODIFIED:20250803T192401Z
UID:10000386-1829062800-1829070000@getyourfunon.com
SUMMARY:Pokemon League Meetup
DESCRIPTION:Join us for Pokemon League Meetup\, every Friday from 5pm to 7pm.  This is a free event for casual play and trading.  All ages welcome.  Registered league players receive a participation promo.
URL:https://getyourfunon.com/shop/event/pokemon-league-meetup/2027-12-17/
LOCATION:Get Your Fun On\, 3040 W New Haven Ave.\, Melbourne\, FL\, 32904\, United States
CATEGORIES:Pokemon Casual,Pokemon Events
ATTACH;FMTTYPE=image/jpeg:https://getyourfunon.com/shop/wp-content/uploads/2025/08/1.1.jpg
END:VEVENT
BEGIN:VEVENT
DTSTART;TZID=America/New_York:20271224T170000
DTEND;TZID=America/New_York:20271224T190000
DTSTAMP:20260424T043521
CREATED:20250803T191544Z
LAST-MODIFIED:20250803T192401Z
UID:10000387-1829667600-1829674800@getyourfunon.com
SUMMARY:Pokemon League Meetup
DESCRIPTION:Join us for Pokemon League Meetup\, every Friday from 5pm to 7pm.  This is a free event for casual play and trading.  All ages welcome.  Registered league players receive a participation promo.
URL:https://getyourfunon.com/shop/event/pokemon-league-meetup/2027-12-24/
LOCATION:Get Your Fun On\, 3040 W New Haven Ave.\, Melbourne\, FL\, 32904\, United States
CATEGORIES:Pokemon Casual,Pokemon Events
ATTACH;FMTTYPE=image/jpeg:https://getyourfunon.com/shop/wp-content/uploads/2025/08/1.1.jpg
END:VEVENT
BEGIN:VEVENT
DTSTART;TZID=America/New_York:20271231T170000
DTEND;TZID=America/New_York:20271231T190000
DTSTAMP:20260424T043521
CREATED:20250803T191544Z
LAST-MODIFIED:20250803T192401Z
UID:10000388-1830272400-1830279600@getyourfunon.com
SUMMARY:Pokemon League Meetup
DESCRIPTION:Join us for Pokemon League Meetup\, every Friday from 5pm to 7pm.  This is a free event for casual play and trading.  All ages welcome.  Registered league players receive a participation promo.
URL:https://getyourfunon.com/shop/event/pokemon-league-meetup/2027-12-31/
LOCATION:Get Your Fun On\, 3040 W New Haven Ave.\, Melbourne\, FL\, 32904\, United States
CATEGORIES:Pokemon Casual,Pokemon Events
ATTACH;FMTTYPE=image/jpeg:https://getyourfunon.com/shop/wp-content/uploads/2025/08/1.1.jpg
END:VEVENT
BEGIN:VEVENT
DTSTART;TZID=America/New_York:20280107T170000
DTEND;TZID=America/New_York:20280107T190000
DTSTAMP:20260424T043521
CREATED:20250803T191544Z
LAST-MODIFIED:20250803T192401Z
UID:10000389-1830877200-1830884400@getyourfunon.com
SUMMARY:Pokemon League Meetup
DESCRIPTION:Join us for Pokemon League Meetup\, every Friday from 5pm to 7pm.  This is a free event for casual play and trading.  All ages welcome.  Registered league players receive a participation promo.
URL:https://getyourfunon.com/shop/event/pokemon-league-meetup/2028-01-07/
LOCATION:Get Your Fun On\, 3040 W New Haven Ave.\, Melbourne\, FL\, 32904\, United States
CATEGORIES:Pokemon Casual,Pokemon Events
ATTACH;FMTTYPE=image/jpeg:https://getyourfunon.com/shop/wp-content/uploads/2025/08/1.1.jpg
END:VEVENT
END:VCALENDAR