BEGIN:VCALENDAR
VERSION:2.0
PRODID:-//Get Your Fun On Webshop - ECPv6.15.20//NONSGML v1.0//EN
CALSCALE:GREGORIAN
METHOD:PUBLISH
X-WR-CALNAME:Get Your Fun On Webshop
X-ORIGINAL-URL:https://getyourfunon.com/shop
X-WR-CALDESC:Events for Get Your Fun On Webshop
REFRESH-INTERVAL;VALUE=DURATION:PT1H
X-Robots-Tag:noindex
X-PUBLISHED-TTL:PT1H
BEGIN:VTIMEZONE
TZID:America/New_York
BEGIN:DAYLIGHT
TZOFFSETFROM:-0500
TZOFFSETTO:-0400
TZNAME:EDT
DTSTART:20250309T070000
END:DAYLIGHT
BEGIN:STANDARD
TZOFFSETFROM:-0400
TZOFFSETTO:-0500
TZNAME:EST
DTSTART:20251102T060000
END:STANDARD
BEGIN:DAYLIGHT
TZOFFSETFROM:-0500
TZOFFSETTO:-0400
TZNAME:EDT
DTSTART:20260308T070000
END:DAYLIGHT
BEGIN:STANDARD
TZOFFSETFROM:-0400
TZOFFSETTO:-0500
TZNAME:EST
DTSTART:20261101T060000
END:STANDARD
BEGIN:DAYLIGHT
TZOFFSETFROM:-0500
TZOFFSETTO:-0400
TZNAME:EDT
DTSTART:20270314T070000
END:DAYLIGHT
BEGIN:STANDARD
TZOFFSETFROM:-0400
TZOFFSETTO:-0500
TZNAME:EST
DTSTART:20271107T060000
END:STANDARD
END:VTIMEZONE
BEGIN:VEVENT
DTSTART;TZID=America/New_York:20260515T170000
DTEND;TZID=America/New_York:20260515T190000
DTSTAMP:20260424T013218
CREATED:20250803T191544Z
LAST-MODIFIED:20250803T192401Z
UID:10000303-1778864400-1778871600@getyourfunon.com
SUMMARY:Pokemon League Meetup
DESCRIPTION:Join us for Pokemon League Meetup\, every Friday from 5pm to 7pm.  This is a free event for casual play and trading.  All ages welcome.  Registered league players receive a participation promo.
URL:https://getyourfunon.com/shop/event/pokemon-league-meetup/2026-05-15/
LOCATION:Get Your Fun On\, 3040 W New Haven Ave.\, Melbourne\, FL\, 32904\, United States
CATEGORIES:Pokemon Casual,Pokemon Events
ATTACH;FMTTYPE=image/jpeg:https://getyourfunon.com/shop/wp-content/uploads/2025/08/1.1.jpg
END:VEVENT
END:VCALENDAR