BEGIN:VCALENDAR
VERSION:2.0
PRODID:-//Get Your Fun On Webshop - ECPv6.15.20//NONSGML v1.0//EN
CALSCALE:GREGORIAN
METHOD:PUBLISH
X-ORIGINAL-URL:https://getyourfunon.com/shop
X-WR-CALDESC:Events for Get Your Fun On Webshop
REFRESH-INTERVAL;VALUE=DURATION:PT1H
X-Robots-Tag:noindex
X-PUBLISHED-TTL:PT1H
BEGIN:VTIMEZONE
TZID:America/New_York
BEGIN:DAYLIGHT
TZOFFSETFROM:-0500
TZOFFSETTO:-0400
TZNAME:EDT
DTSTART:20250309T070000
END:DAYLIGHT
BEGIN:STANDARD
TZOFFSETFROM:-0400
TZOFFSETTO:-0500
TZNAME:EST
DTSTART:20251102T060000
END:STANDARD
BEGIN:DAYLIGHT
TZOFFSETFROM:-0500
TZOFFSETTO:-0400
TZNAME:EDT
DTSTART:20260308T070000
END:DAYLIGHT
BEGIN:STANDARD
TZOFFSETFROM:-0400
TZOFFSETTO:-0500
TZNAME:EST
DTSTART:20261101T060000
END:STANDARD
BEGIN:DAYLIGHT
TZOFFSETFROM:-0500
TZOFFSETTO:-0400
TZNAME:EDT
DTSTART:20270314T070000
END:DAYLIGHT
BEGIN:STANDARD
TZOFFSETFROM:-0400
TZOFFSETTO:-0500
TZNAME:EST
DTSTART:20271107T060000
END:STANDARD
END:VTIMEZONE
BEGIN:VEVENT
DTSTART;TZID=America/New_York:20260310T180000
DTEND;TZID=America/New_York:20260310T210000
DTSTAMP:20260423T191955
CREATED:20250807T180944Z
LAST-MODIFIED:20250807T180944Z
UID:10000560-1773165600-1773176400@getyourfunon.com
SUMMARY:Casual Lorcana League
DESCRIPTION:Do you play or want to learn to play Lorcana? Come out to our casual weekly league! Bring a deck you made or you can buy a starter deck from us and play. Our community is very welcoming and patient with all level of players and happy to help teach newbies.\n\nLeague is free to play. All ages welcome!\n\nleague players get a change to win special league promo goodies when they come out and play.\nThis is also a great time to do card trades.
URL:https://getyourfunon.com/shop/event/casual-lorcana-league/2026-03-10/
LOCATION:Get Your Fun On\, 3040 W New Haven Ave.\, Melbourne\, FL\, 32904\, United States
CATEGORIES:Card Game Events,Lorcana Casual,Lorcana Events
ATTACH;FMTTYPE=image/jpeg:https://getyourfunon.com/shop/wp-content/uploads/2025/08/Lorcana-Weekly.jpg
END:VEVENT
BEGIN:VEVENT
DTSTART;TZID=America/New_York:20260313T170000
DTEND;TZID=America/New_York:20260313T190000
DTSTAMP:20260423T191955
CREATED:20250803T191544Z
LAST-MODIFIED:20250803T192401Z
UID:10000294-1773421200-1773428400@getyourfunon.com
SUMMARY:Pokemon League Meetup
DESCRIPTION:Join us for Pokemon League Meetup\, every Friday from 5pm to 7pm.  This is a free event for casual play and trading.  All ages welcome.  Registered league players receive a participation promo.
URL:https://getyourfunon.com/shop/event/pokemon-league-meetup/2026-03-13/
LOCATION:Get Your Fun On\, 3040 W New Haven Ave.\, Melbourne\, FL\, 32904\, United States
CATEGORIES:Pokemon Casual,Pokemon Events
ATTACH;FMTTYPE=image/jpeg:https://getyourfunon.com/shop/wp-content/uploads/2025/08/1.1.jpg
END:VEVENT
BEGIN:VEVENT
DTSTART;TZID=America/New_York:20260313T184500
DTEND;TZID=America/New_York:20260313T230000
DTSTAMP:20260423T191955
CREATED:20250803T185924Z
LAST-MODIFIED:20250803T231330Z
UID:10000032-1773427500-1773442800@getyourfunon.com
SUMMARY:MtG Friday Night Magic Draft
DESCRIPTION:Join us every Friday evening for official Magic the Gathering FNM Draft. (Occasional Sealed or Constructed for special events). \nEvent starts at 7pm.  Please join us in time to be paid and registered by 7pm.  Magic Companion App required.  Regardless of player count we run 3 cross pod rounds. Draft is 3 packs.  Everyone gets a pack for round 1 play.  You will win an additional pack for winning each round 2 and 3.  So at a minimum you will get 4 packs worth of cards. Up to 6 packs.  Entry price varies depending on set pricing from distribution.  Please stop by or call the shop for full details.
URL:https://getyourfunon.com/shop/event/mtg-friday-night-magic-draft/2026-03-13/
LOCATION:Get Your Fun On\, 3040 W New Haven Ave.\, Melbourne\, FL\, 32904\, United States
CATEGORIES:Magic the Gathering Events,Magic the Gathering Tournaments
ATTACH;FMTTYPE=image/jpeg:https://getyourfunon.com/shop/wp-content/uploads/2025/08/1-10.jpg
END:VEVENT
END:VCALENDAR